BEGIN:VCALENDAR
VERSION:2.0
PRODID:icalendar-ruby
CALSCALE:GREGORIAN
BEGIN:VEVENT
DTSTAMP:20260422T141311Z
UID:20cba1d2-9678-42d9-a711-fa1f561400db
DTSTART:20250808T033000
DTEND:20250808T051900
DESCRIPTION:\nhttp://miff.com.au/program/film/the-love-that-remains
LOCATION:ACMI 1
SUMMARY:(?) A1 - The Love That Remains
END:VEVENT
BEGIN:VEVENT
DTSTAMP:20260422T141311Z
UID:25210392-8d63-40ce-a443-e9da03cfd49f
DTSTART:20250808T060000
DTEND:20250808T074500
DESCRIPTION:\nhttp://miff.com.au/program/film/young-mothers
LOCATION:ACMI 1
SUMMARY:(?) A1 - Young Mothers
END:VEVENT
BEGIN:VEVENT
DTSTAMP:20260422T141311Z
UID:c29fd154-35c7-42d2-9f3f-df2e34664f99
DTSTART:20250808T081500
DTEND:20250808T101300
DESCRIPTION:\nhttp://miff.com.au/program/film/sex
LOCATION:Kino 2
SUMMARY:(?) K2 - Sex
END:VEVENT
BEGIN:VEVENT
DTSTAMP:20260422T141311Z
UID:afd4b91b-31e0-4288-b9df-5cf8ab831f4d
DTSTART:20250808T110000
DTEND:20250808T125000
DESCRIPTION:\nhttp://miff.com.au/program/film/the-mastermind
LOCATION:Capitol
SUMMARY:(?) C - The Mastermind
END:VEVENT
BEGIN:VEVENT
DTSTAMP:20260422T141311Z
UID:52549fbd-cd84-43a7-a990-130c20a88ffc
DTSTART:20250809T113000
DTEND:20250809T131900
DESCRIPTION:\nhttp://miff.com.au/program/film/kontinental-25
LOCATION:Capitol
SUMMARY:(?) C - Kontinental '25
END:VEVENT
BEGIN:VEVENT
DTSTAMP:20260422T141311Z
UID:f6935b9b-6255-4679-be67-f94f29af1fc7
DTSTART:20250810T011500
DTEND:20250810T025000
DESCRIPTION:\nhttp://miff.com.au/program/film/promised-sky
LOCATION:ACMI 2
SUMMARY:(?) A2 - Promised Sky
END:VEVENT
BEGIN:VEVENT
DTSTAMP:20260422T141311Z
UID:3f88a72b-548c-4706-a3a5-28eab94dbf9b
DTSTART:20250810T034500
DTEND:20250810T050000
DESCRIPTION:\nhttp://miff.com.au/program/film/the-golden-spurtle
LOCATION:ACMI 1
SUMMARY:(?) A1 - The Golden Spurtle
END:VEVENT
BEGIN:VEVENT
DTSTAMP:20260422T141311Z
UID:224632ed-e32a-48b5-a5e5-8e14d669a707
DTSTART:20250810T054500
DTEND:20250810T072900
DESCRIPTION:\nhttp://miff.com.au/program/film/sorry-baby
LOCATION:Hoyts 11
SUMMARY:(?) 11 - Sorry\, Baby
END:VEVENT
BEGIN:VEVENT
DTSTAMP:20260422T141311Z
UID:23de4ec6-a490-4dcd-8d69-357efeb48d2e
DTSTART:20250810T083000
DTEND:20250810T100100
DESCRIPTION:\nhttp://miff.com.au/program/film/by-design
LOCATION:Hoyts 10
SUMMARY:(?) 10 - By Design
END:VEVENT
BEGIN:VEVENT
DTSTAMP:20260422T141311Z
UID:995ca9fd-3016-4fd2-9481-f161a4080d0d
DTSTART:20250811T000000
DTEND:20250811T012400
DESCRIPTION:\nhttp://miff.com.au/program/film/greetings-from-mars
LOCATION:ACMI 1
SUMMARY:(?) A1 - Greetings From Mars
END:VEVENT
BEGIN:VEVENT
DTSTAMP:20260422T141311Z
UID:25b40fb4-83a5-4631-aab4-fd1840567cda
DTSTART:20250812T080000
DTEND:20250812T092700
DESCRIPTION:\nhttp://miff.com.au/program/film/1001-frames
LOCATION:ACMI 2
SUMMARY:(?) A2 - 1001 Frames
END:VEVENT
BEGIN:VEVENT
DTSTAMP:20260422T141311Z
UID:ace4618f-85be-4f57-a3ea-a29b8fbab1ca
DTSTART:20250814T081500
DTEND:20250814T102200
DESCRIPTION:\nhttp://miff.com.au/program/film/les-rendez-vous-danna
LOCATION:Kino 2
SUMMARY:(?) K2 - Les Rendez-vous d’Anna
END:VEVENT
BEGIN:VEVENT
DTSTAMP:20260422T141311Z
UID:fc2dae41-03a8-4257-a7a0-b82d181a87b2
DTSTART:20250815T000000
DTEND:20250815T015300
DESCRIPTION:\nhttp://miff.com.au/program/film/happyend
LOCATION:ACMI 1
SUMMARY:(?) A1 - Happyend
END:VEVENT
BEGIN:VEVENT
DTSTAMP:20260422T141311Z
UID:29bc532a-6040-44ea-a9ad-cf29b18aaf2e
DTSTART:20250816T031500
DTEND:20250816T050500
DESCRIPTION:\nhttp://miff.com.au/program/film/dest
LOCATION:Kino 2
SUMMARY:(?) K2 - D'est
END:VEVENT
BEGIN:VEVENT
DTSTAMP:20260422T141311Z
UID:b3e73915-f843-442b-b420-838c68d93382
DTSTART:20250816T063000
DTEND:20250816T075400
DESCRIPTION:\nhttp://miff.com.au/program/film/daily-worker\nhttp://miff.com
 .au/program/film/little-boy
LOCATION:ACMI 2
SUMMARY:(?) A2 - Daily Worker\, little boy
END:VEVENT
BEGIN:VEVENT
DTSTAMP:20260422T141311Z
UID:8b03043d-e3d3-41fd-950b-bf4b03eeec7d
DTSTART:20250816T084500
DTEND:20250816T100000
DESCRIPTION:\nhttp://miff.com.au/program/film/nightshift
LOCATION:Kino 2
SUMMARY:(?) K2 - Nightshift
END:VEVENT
BEGIN:VEVENT
DTSTAMP:20260422T141311Z
UID:16e0c5df-0029-44f3-8368-dcd711f996fd
DTSTART:20250816T111500
DTEND:20250816T131200
DESCRIPTION:\nhttp://miff.com.au/program/film/the-ice-tower
LOCATION:Hoyts 3
SUMMARY:(?) H3 - The Ice Tower
END:VEVENT
BEGIN:VEVENT
DTSTAMP:20260422T141311Z
UID:7c0a542a-6095-4a8c-a19c-b0059ceff524
DTSTART:20250817T061500
DTEND:20250817T075600
DESCRIPTION:\nhttp://miff.com.au/program/film/la-chambre\nhttp://miff.com.a
 u/program/film/news-from-home
LOCATION:Kino 2
SUMMARY:(?) K2 - La Chambre\, News From Home
END:VEVENT
BEGIN:VEVENT
DTSTAMP:20260422T141311Z
UID:6f3daedf-c62d-4b54-b7ef-54f49e8ab78b
DTSTART:20250817T081500
DTEND:20250817T095500
DESCRIPTION:\nhttp://miff.com.au/program/film/a-private-life
LOCATION:Hoyts 11
SUMMARY:(?) 11 - A Private Life
END:VEVENT
BEGIN:VEVENT
DTSTAMP:20260422T141311Z
UID:4b9b0ce5-f435-4a89-b403-656be4822f5d
DTSTART:20250818T010000
DTEND:20250818T021300
DESCRIPTION:\nhttp://miff.com.au/program/film/the-great-history-of-western-
 philosophy
LOCATION:ACMI 2
SUMMARY:(?) A2 - The Great History of Western Philosophy
END:VEVENT
BEGIN:VEVENT
DTSTAMP:20260422T141311Z
UID:c160f215-6b9c-48cd-aef5-ad4c0eb57e42
DTSTART:20250818T031500
DTEND:20250818T044500
DESCRIPTION:\nhttp://miff.com.au/program/film/mr-nobody-against-putin
LOCATION:ACMI 1
SUMMARY:(?) A1 - Mr. Nobody Against Putin
END:VEVENT
BEGIN:VEVENT
DTSTAMP:20260422T141311Z
UID:572db79c-41cc-4ae2-901f-feb1d0fc87b2
DTSTART:20250818T054500
DTEND:20250818T073300
DESCRIPTION:\nhttp://miff.com.au/program/film/chantal-akerman-par-chantal-a
 kerman\nhttp://miff.com.au/program/film/dis-moi
LOCATION:ACMI 2
SUMMARY:(?) A2 - Chantal Akerman par Chantal Akerman\, Dis-moi
END:VEVENT
BEGIN:VEVENT
DTSTAMP:20260422T141311Z
UID:e4ce1a25-6f71-4ae1-a75d-813e01b32e77
DTSTART:20250818T080000
DTEND:20250818T101300
DESCRIPTION:\nhttp://miff.com.au/program/film/harvest
LOCATION:ACMI 1
SUMMARY:(?) A1 - Harvest
END:VEVENT
BEGIN:VEVENT
DTSTAMP:20260422T141311Z
UID:aa117b37-b7b1-4afb-bb9b-261098c5906f
DTSTART:20250818T111500
DTEND:20250818T132500
DESCRIPTION:\nhttp://miff.com.au/program/film/a-useful-ghost
LOCATION:ACMI 1
SUMMARY:(?) A1 - A Useful Ghost
END:VEVENT
BEGIN:VEVENT
DTSTAMP:20260422T141311Z
UID:4cf6f29b-3da4-4b8c-9c56-ff84921524dd
DTSTART:20250819T031500
DTEND:20250819T043600
DESCRIPTION:\nhttp://miff.com.au/program/film/trains
LOCATION:ACMI 2
SUMMARY:(?) A2 - Trains
END:VEVENT
BEGIN:VEVENT
DTSTAMP:20260422T141311Z
UID:ce303d04-a13d-4dcd-8e9a-02150d5deb74
DTSTART:20250820T030000
DTEND:20250820T044100
DESCRIPTION:\nhttp://miff.com.au/program/film/it-was-just-an-accident
LOCATION:Forum
SUMMARY:(?) FM - It Was Just an Accident
END:VEVENT
BEGIN:VEVENT
DTSTAMP:20260422T141311Z
UID:c1478b11-a75d-4be2-96a9-7b76a18d6701
DTSTART:20250820T080000
DTEND:20250820T102900
DESCRIPTION:\nhttp://miff.com.au/program/film/sound-of-falling
LOCATION:Capitol
SUMMARY:(?) C - Sound of Falling
END:VEVENT
BEGIN:VEVENT
DTSTAMP:20260422T141311Z
UID:4fcc30f8-b69f-4e23-82e0-49d7f5d42aab
DTSTART:20250821T080000
DTEND:20250821T104000
DESCRIPTION:\nhttp://miff.com.au/program/film/resurrection
LOCATION:Hoyts 10
SUMMARY:(?) 10 - Resurrection
END:VEVENT
BEGIN:VEVENT
DTSTAMP:20260422T141311Z
UID:13fae4e3-816c-4d48-9086-c7afd03bc44c
DTSTART:20250821T113000
DTEND:20250821T133300
DESCRIPTION:\nhttp://miff.com.au/program/film/cloud
LOCATION:Hoyts 10
SUMMARY:(?) 10 - Cloud
END:VEVENT
BEGIN:VEVENT
DTSTAMP:20260422T141311Z
UID:98adfd1d-2574-4347-911c-0060a2d36336
DTSTART:20250822T081500
DTEND:20250822T100000
DESCRIPTION:\nhttp://miff.com.au/program/film/nouvelle-vague
LOCATION:Capitol
SUMMARY:(?) C - Nouvelle Vague
END:VEVENT
BEGIN:VEVENT
DTSTAMP:20260422T141311Z
UID:3a5a67e3-93b6-40d7-a424-6fee63ca1dea
DTSTART:20250823T010000
DTEND:20250823T025500
DESCRIPTION:\nhttp://miff.com.au/program/film/romeria
LOCATION:Forum
SUMMARY:(?) FM - Romería
END:VEVENT
BEGIN:VEVENT
DTSTAMP:20260422T141311Z
UID:48f5d9f8-0515-4d5a-b88a-cd4b7d5ae9c0
DTSTART:20250823T031500
DTEND:20250823T043800
DESCRIPTION:\nhttp://miff.com.au/program/film/maya-give-me-a-title\nhttp://
 miff.com.au/program/film/an-urban-allegory
LOCATION:Hoyts 10
SUMMARY:(?) 10 - Maya\, Give Me a Title\, An Urban Allegory
END:VEVENT
BEGIN:VEVENT
DTSTAMP:20260422T141311Z
UID:09b02959-f060-4f48-ba48-db6175d6816c
DTSTART:20250823T053000
DTEND:20250823T065600
DESCRIPTION:\nhttp://miff.com.au/program/film/mirrors-no-3
LOCATION:Hoyts 11
SUMMARY:(?) 11 - Mirrors No. 3
END:VEVENT
BEGIN:VEVENT
DTSTAMP:20260422T141311Z
UID:a059c4f8-170a-487d-b3d6-c3111f4d315d
DTSTART:20250823T083000
DTEND:20250823T102500
DESCRIPTION:\nhttp://miff.com.au/program/film/brand-new-landscape
LOCATION:Hoyts 10
SUMMARY:(?) 10 - Brand New Landscape
END:VEVENT
BEGIN:VEVENT
DTSTAMP:20260422T141311Z
UID:af100715-990b-4213-ad01-5381473b06d6
DTSTART:20250823T113000
DTEND:20250823T132500
DESCRIPTION:\nhttp://miff.com.au/program/film/sirat
LOCATION:Astor
SUMMARY:(?) A - Sirât
END:VEVENT
BEGIN:VEVENT
DTSTAMP:20260422T141311Z
UID:f23f082b-8d37-483d-bec9-cfda6bf91e9e
DTSTART:20250824T010000
DTEND:20250824T025300
DESCRIPTION:\nhttp://miff.com.au/program/film/happyend
LOCATION:Hoyts 7
SUMMARY:(?) H7 - Happyend
END:VEVENT
BEGIN:VEVENT
DTSTAMP:20260422T141311Z
UID:c2c4dccc-3694-48c4-aefe-74284691ae9a
DTSTART:20250824T030000
DTEND:20250824T053900
DESCRIPTION:\nhttp://miff.com.au/program/film/the-secret-agent
LOCATION:Hoyts 10
SUMMARY:(?) 10 - The Secret Agent
END:VEVENT
BEGIN:VEVENT
DTSTAMP:20260422T141311Z
UID:6ffe5920-b17a-41ab-adbb-d09643ffe077
DTSTART:20250824T060000
DTEND:20250824T080800
DESCRIPTION:\nhttp://miff.com.au/program/film/the-chronology-of-water
LOCATION:Forum
SUMMARY:(?) FM - The Chronology of Water
END:VEVENT
BEGIN:VEVENT
DTSTAMP:20260422T141311Z
UID:bd4a4204-0cdf-45a7-b6a1-cb9c399e3fd5
DTSTART:20250824T090000
DTEND:20250824T105300
DESCRIPTION:\nhttp://miff.com.au/program/film/blknws-terms-conditions
LOCATION:Hoyts 10
SUMMARY:(?) 10 - BLKNWS: Terms & Conditions
END:VEVENT
BEGIN:VEVENT
DTSTAMP:20260422T141311Z
UID:17fc31be-8092-40d8-9402-68ef9b53eb67
DTSTART:20250824T110000
DTEND:20250824T131000
DESCRIPTION:\nhttp://miff.com.au/program/film/sham
LOCATION:Hoyts 3
SUMMARY:(?) H3 - Sham
END:VEVENT
BEGIN:VEVENT
DTSTAMP:20260422T141311Z
UID:ec2cdbe0-60da-4e12-9025-85afb1cfeaf2
DTSTART:20250824T030000
DTEND:20250824T044900
DESCRIPTION:Daniel Sheppard\nhttp://miff.com.au/program/film/come-see-me-in
 -the-good-light
LOCATION:Forum
SUMMARY:* `FM - Come See Me in the Good Light
END:VEVENT
BEGIN:VEVENT
DTSTAMP:20260422T141311Z
UID:59bed288-2df9-42d0-971b-3065e83d99cc
DTSTART:20250809T080000
DTEND:20250809T094700
DESCRIPTION:Daniel Sheppard\nhttp://miff.com.au/program/film/the-little-sis
 ter
LOCATION:Hoyts 11
SUMMARY:* `11 - The Little Sister
END:VEVENT
BEGIN:VEVENT
DTSTAMP:20260422T141311Z
UID:df26323c-9cc7-49b7-95d9-47b7c1ce133e
DTSTART:20250811T030000
DTEND:20250811T043600
DESCRIPTION:Daniel Sheppard\nhttp://miff.com.au/program/film/love-letters
LOCATION:ACMI 2
SUMMARY:* `A2 - Love Letters
END:VEVENT
BEGIN:VEVENT
DTSTAMP:20260422T141311Z
UID:2e267ff6-c5ce-4763-bbe6-b97c71bc2bcf
DTSTART:20250811T054500
DTEND:20250811T071600
DESCRIPTION:Daniel Sheppard\nhttp://miff.com.au/program/film/ghost-boy
LOCATION:ACMI 2
SUMMARY:* `A2 - Ghost Boy
END:VEVENT
BEGIN:VEVENT
DTSTAMP:20260422T141311Z
UID:363011e0-3fd0-49e6-a642-44e715df0d73
DTSTART:20250811T080000
DTEND:20250811T091000
DESCRIPTION:Daniel Sheppard\nhttp://miff.com.au/program/film/two-times-joao
 -liberada
LOCATION:ACMI 2
SUMMARY:* `A2 - Two Times João Liberada
END:VEVENT
BEGIN:VEVENT
DTSTAMP:20260422T141311Z
UID:0729fff6-602c-43a2-9208-e92e460c68cf
DTSTART:20250812T010000
DTEND:20250812T023400
DESCRIPTION:Daniel Sheppard\nhttp://miff.com.au/program/film/twiggy
LOCATION:ACMI 2
SUMMARY:* `A2 - Twiggy
END:VEVENT
BEGIN:VEVENT
DTSTAMP:20260422T141311Z
UID:860e5d09-2884-41ee-b16e-c9d1912f3c27
DTSTART:20250812T113000
DTEND:20250812T131800
DESCRIPTION:Daniel Sheppard\nhttp://miff.com.au/program/film/pennies-from-h
 eaven
LOCATION:ACMI 1
SUMMARY:* `A1 - Pennies From Heaven
END:VEVENT
BEGIN:VEVENT
DTSTAMP:20260422T141311Z
UID:3bc5654d-c6ea-49bf-a3e0-185bba960fcc
DTSTART:20250813T113000
DTEND:20250813T131000
DESCRIPTION:Daniel Sheppard\nhttp://miff.com.au/program/film/lurker
LOCATION:Hoyts 11
SUMMARY:* `11 - Lurker
END:VEVENT
BEGIN:VEVENT
DTSTAMP:20260422T141311Z
UID:f480e89b-6585-4806-ab56-4c0170932ba6
DTSTART:20250813T083000
DTEND:20250813T100800
DESCRIPTION:Daniel Sheppard\nhttp://miff.com.au/program/film/dreams
LOCATION:Hoyts 10
SUMMARY:* `10 - Dreams
END:VEVENT
BEGIN:VEVENT
DTSTAMP:20260422T141311Z
UID:e9a202f5-5501-4435-8ff7-9cf1d1c5da5b
DTSTART:20250813T054500
DTEND:20250813T074300
DESCRIPTION:Daniel Sheppard\nhttp://miff.com.au/program/film/two-prosecutor
 s
LOCATION:Forum
SUMMARY:* `FM - Two Prosecutors
END:VEVENT
BEGIN:VEVENT
DTSTAMP:20260422T141311Z
UID:89a32134-1d32-41c6-aaa6-dd7a47d4b587
DTSTART:20250813T033000
DTEND:20250813T045900
DESCRIPTION:Daniel Sheppard\nhttp://miff.com.au/program/film/little-trouble
 -girls
LOCATION:Forum
SUMMARY:* `FM - Little Trouble Girls
END:VEVENT
BEGIN:VEVENT
DTSTAMP:20260422T141311Z
UID:d1e1bfee-ea1d-494c-8f90-487d0ad95a5f
DTSTART:20250813T003000
DTEND:20250813T023300
DESCRIPTION:Daniel Sheppard\nhttp://miff.com.au/program/film/happy-holidays
LOCATION:Forum
SUMMARY:* `FM - Happy Holidays
END:VEVENT
BEGIN:VEVENT
DTSTAMP:20260422T141311Z
UID:009c0398-2492-4a0f-aa9a-e26e6dc42aba
DTSTART:20250814T111500
DTEND:20250814T125500
DESCRIPTION:Daniel Sheppard\nhttp://miff.com.au/program/film/the-baltimoron
 s
LOCATION:Capitol
SUMMARY:* `C - The Baltimorons
END:VEVENT
BEGIN:VEVENT
DTSTAMP:20260422T141311Z
UID:70421c01-60f9-4c96-bf35-02ca33a8ade9
DTSTART:20250814T053000
DTEND:20250814T073600
DESCRIPTION:Daniel Sheppard\nhttp://miff.com.au/program/film/stranger-eyes
LOCATION:Forum
SUMMARY:* `FM - Stranger Eyes
END:VEVENT
BEGIN:VEVENT
DTSTAMP:20260422T141311Z
UID:32bebd1d-b7ec-4453-8ad1-33436949b2d6
DTSTART:20250814T010000
DTEND:20250814T022600
DESCRIPTION:Daniel Sheppard\nhttp://miff.com.au/program/film/twst-things-we
 -said-today
LOCATION:ACMI 2
SUMMARY:* `A2 - TWST – Things We Said Today
END:VEVENT
BEGIN:VEVENT
DTSTAMP:20260422T141311Z
UID:e3ba58c8-412a-4d55-9321-47312da8997a
DTSTART:20250815T030000
DTEND:20250815T045900
DESCRIPTION:Daniel Sheppard\nhttp://miff.com.au/program/film/orwell-22-5
LOCATION:Forum
SUMMARY:* `FM - Orwell: 2+2 = 5
END:VEVENT
BEGIN:VEVENT
DTSTAMP:20260422T141311Z
UID:a59c5ca6-84a6-4a8e-9cbc-3a4b1ca48cd2
DTSTART:20250815T081500
DTEND:20250815T100400
DESCRIPTION:Daniel Sheppard\nhttp://miff.com.au/program/film/nineteen
LOCATION:Hoyts 11
SUMMARY:* `11 - Nineteen
END:VEVENT
BEGIN:VEVENT
DTSTAMP:20260422T141311Z
UID:7f28573d-4f51-40bf-8751-398dad83513b
DTSTART:20250815T110000
DTEND:20250815T124000
DESCRIPTION:Daniel Sheppard\nhttp://miff.com.au/program/film/splitsville
LOCATION:Hoyts 11
SUMMARY:* `11 - Splitsville
END:VEVENT
BEGIN:VEVENT
DTSTAMP:20260422T141311Z
UID:4b4c2178-975c-476e-aad5-0e826cc98cb3
DTSTART:20250817T030000
DTEND:20250817T043100
DESCRIPTION:Daniel Sheppard\nhttp://miff.com.au/program/film/familiar-touch
LOCATION:Forum
SUMMARY:* `FM - Familiar Touch
END:VEVENT
BEGIN:VEVENT
DTSTAMP:20260422T141311Z
UID:4e0d016a-6c95-449d-89ef-560eb1783674
DTSTART:20250817T003000
DTEND:20250817T020900
DESCRIPTION:Daniel Sheppard\nhttp://miff.com.au/program/film/the-ballad-of-
 wallis-island
LOCATION:Forum
SUMMARY:* `FM - The Ballad of Wallis Island
END:VEVENT
BEGIN:VEVENT
DTSTAMP:20260422T141311Z
UID:12fbb971-c964-4d8c-ae81-78acc493bc75
DTSTART:20250819T003000
DTEND:20250819T020500
DESCRIPTION:Daniel Sheppard\nhttp://miff.com.au/program/film/i-saw-a-king
LOCATION:ACMI 1
SUMMARY:* `A1 - I Saw a King
END:VEVENT
BEGIN:VEVENT
DTSTAMP:20260422T141311Z
UID:a48b1d84-7223-44df-a829-116d0dc34525
DTSTART:20250819T053000
DTEND:20250819T070200
DESCRIPTION:Daniel Sheppard\nhttp://miff.com.au/program/film/late-shift
LOCATION:ACMI 1
SUMMARY:* `A1 - Late Shift
END:VEVENT
BEGIN:VEVENT
DTSTAMP:20260422T141311Z
UID:1cdcaff0-89c2-43a6-a506-da1dc1c461ce
DTSTART:20250819T081500
DTEND:20250819T095900
DESCRIPTION:Daniel Sheppard\nhttp://miff.com.au/program/film/the-mysterious
 -gaze-of-the-flamingo
LOCATION:Capitol
SUMMARY:* `C - The Mysterious Gaze of the Flamingo
END:VEVENT
BEGIN:VEVENT
DTSTAMP:20260422T141311Z
UID:a32a336f-f5cd-48d2-9e9a-702affe17ad7
DTSTART:20250819T111500
DTEND:20250819T132900
DESCRIPTION:Daniel Sheppard\nhttp://miff.com.au/program/film/april
LOCATION:Capitol
SUMMARY:* `C - April
END:VEVENT
BEGIN:VEVENT
DTSTAMP:20260422T141311Z
UID:2e20e950-1da2-46dd-8a3f-1972c07919d3
DTSTART:20250820T104500
DTEND:20250820T123700
DESCRIPTION:Daniel Sheppard\nhttp://miff.com.au/program/film/fiume-o-morte
LOCATION:ACMI 2
SUMMARY:* `A2 - Fiume o morte!
END:VEVENT
BEGIN:VEVENT
DTSTAMP:20260422T141311Z
UID:544d1aa7-c7fd-4597-9941-3db09465191d
DTSTART:20250821T001500
DTEND:20250821T022600
DESCRIPTION:Daniel Sheppard\nhttp://miff.com.au/program/film/woman-and-chil
 d
LOCATION:Forum
SUMMARY:* `FM - Woman and Child
END:VEVENT
BEGIN:VEVENT
DTSTAMP:20260422T141311Z
UID:403b1f35-21e5-47de-8ecd-150fa77b26a2
DTSTART:20250821T031500
DTEND:20250821T045800
DESCRIPTION:Daniel Sheppard\nhttp://miff.com.au/program/film/the-presidents
 -cake
LOCATION:Forum
SUMMARY:* `FM - The President's Cake
END:VEVENT
BEGIN:VEVENT
DTSTAMP:20260422T141311Z
UID:16748bc9-7e10-4270-94c9-9dfd3b905f86
DTSTART:20250821T053000
DTEND:20250821T071800
DESCRIPTION:Daniel Sheppard\nhttp://miff.com.au/program/film/what-does-that
 -nature-say-to-you
LOCATION:ACMI 1
SUMMARY:* `A1 - What Does That Nature Say To You
END:VEVENT
BEGIN:VEVENT
DTSTAMP:20260422T141311Z
UID:942375b5-2bc7-45b1-b8bb-34a8521620c9
DTSTART:20250822T123000
DTEND:20250822T135700
DESCRIPTION:Daniel Sheppard\nhttp://miff.com.au/program/film/reflection-in-
 a-dead-diamond
LOCATION:ACMI 1
SUMMARY:* `A1 - Reflection in a Dead Diamond
END:VEVENT
BEGIN:VEVENT
DTSTAMP:20260422T141311Z
UID:0b276851-95f2-4418-8f31-7f2d4497ef5e
DTSTART:20250822T053000
DTEND:20250822T074200
DESCRIPTION:Daniel Sheppard\nhttp://miff.com.au/program/film/punku
LOCATION:Kino 1
SUMMARY:* `K1 - Punku
END:VEVENT
BEGIN:VEVENT
DTSTAMP:20260422T141311Z
UID:d4731b31-4fda-4f1f-ae3b-a6c72eeac66e
DTSTART:20250822T023000
DTEND:20250822T045800
DESCRIPTION:Daniel Sheppard\nhttp://miff.com.au/program/film/the-end
LOCATION:Forum
SUMMARY:* `FM - The End
END:VEVENT
BEGIN:VEVENT
DTSTAMP:20260422T141311Z
UID:2b657d78-c8e6-408a-a69c-9c4fb11c4c0d
DTSTART:20250814T083000
DTEND:20250814T102500
DESCRIPTION:Daniel Sheppard\nhttp://miff.com.au/program/film/romeria
LOCATION:Forum
SUMMARY:* `FM - Romería
END:VEVENT
BEGIN:VEVENT
DTSTAMP:20260422T141311Z
UID:201b87e7-5cdc-4072-a194-94a21b2949fe
DTSTART:20250809T054500
DTEND:20250809T074700
DESCRIPTION:Daniel Sheppard\nhttp://miff.com.au/program/film/little-big-and
 -far
LOCATION:ACMI 2
SUMMARY:* `A2 - Little\, Big\, and Far
END:VEVENT
BEGIN:VEVENT
DTSTAMP:20260422T141311Z
UID:da11d787-801a-417f-8bbf-7f546da0033e
DTSTART:20250809T033000
DTEND:20250809T050000
DESCRIPTION:Daniel Sheppard\nhttp://miff.com.au/program/film/the-sealed-soi
 l
LOCATION:ACMI 2
SUMMARY:* `A2 - The Sealed Soil
END:VEVENT
BEGIN:VEVENT
DTSTAMP:20260422T141311Z
UID:d7b8b28b-257c-4b6a-b74b-b9c2c61ba4d9
DTSTART:20250809T011500
DTEND:20250809T024000
DESCRIPTION:Daniel Sheppard\nhttp://miff.com.au/program/film/samsara
LOCATION:ACMI 2
SUMMARY:* `A2 - Samsara
END:VEVENT
BEGIN:VEVENT
DTSTAMP:20260422T141311Z
UID:4afc7518-48d6-4057-b0cc-6678b95b2964
DTSTART:20250811T104500
DTEND:20250811T125400
DESCRIPTION:Daniel Sheppard\nhttp://miff.com.au/program/film/the-wave
LOCATION:ACMI 1
SUMMARY:* `A1 - The Wave
END:VEVENT
BEGIN:VEVENT
DTSTAMP:20260422T141311Z
UID:951e0abf-515b-4518-bd9c-b6446261ff7f
DTSTART:20250820T080000
DTEND:20250820T100800
DESCRIPTION:Daniel Sheppard\nhttp://miff.com.au/program/film/pavements
LOCATION:Hoyts 11
SUMMARY:* `11 - Pavements
END:VEVENT
BEGIN:VEVENT
DTSTAMP:20260422T141311Z
UID:4c87ebd6-5670-469b-b068-e4d29b49e015
DTSTART:20250812T031500
DTEND:20250812T045800
DESCRIPTION:Daniel Sheppard\nhttp://miff.com.au/program/film/lucky-lu
LOCATION:ACMI 2
SUMMARY:* `A2 - Lucky Lu
END:VEVENT
BEGIN:VEVENT
DTSTAMP:20260422T141311Z
UID:8ca417e5-8610-476c-a51c-08d42828f06d
DTSTART:20250812T054500
DTEND:20250812T070800
DESCRIPTION:Daniel Sheppard\nhttp://miff.com.au/program/film/ana-oto\nhttp:
 //miff.com.au/program/film/lost-chapters
LOCATION:ACMI 2
SUMMARY:* `A2 - Ana & Oto\, Lost Chapters
END:VEVENT
BEGIN:VEVENT
DTSTAMP:20260422T141311Z
UID:e1bac750-60d3-4ce1-a5f3-c9f0b378e940
DTSTART:20250819T030000
DTEND:20250819T042300
DESCRIPTION:Daniel Sheppard\nhttp://miff.com.au/program/film/maya-give-me-a
 -title\nhttp://miff.com.au/program/film/an-urban-allegory
LOCATION:ACMI 1
SUMMARY:* `A1 - Maya\, Give Me a Title\, An Urban Allegory
END:VEVENT
BEGIN:VEVENT
DTSTAMP:20260422T141311Z
UID:779a26a2-c4b6-4165-b48b-40cad689f0c3
DTSTART:20250814T030000
DTEND:20250814T044500
DESCRIPTION:Daniel Sheppard\nhttp://miff.com.au/program/film/kyuka-before-s
 ummers-end
LOCATION:Forum
SUMMARY:* `FM - Kyuka Before Summer’s End
END:VEVENT
BEGIN:VEVENT
DTSTAMP:20260422T141311Z
UID:4e113afa-99f6-4d07-95dd-d1047e5fc393
DTSTART:20250822T001500
DTEND:20250822T014100
DESCRIPTION:Daniel Sheppard\nhttp://miff.com.au/program/film/tetes-brulees
LOCATION:ACMI 1
SUMMARY:* `A1 - Têtes Brûlées
END:VEVENT
BEGIN:VEVENT
DTSTAMP:20260422T141311Z
UID:280e2f03-ab3c-488c-91ad-ede4493313fa
DTSTART:20250815T054500
DTEND:20250815T071100
DESCRIPTION:Daniel Sheppard\nhttp://miff.com.au/program/film/the-blue-trail
LOCATION:Forum
SUMMARY:* `FM - The Blue Trail
END:VEVENT
BEGIN:VEVENT
DTSTAMP:20260422T141311Z
UID:6713ed5a-f6be-4edb-8040-6b3d7bed4414
DTSTART:20250820T050000
DTEND:20250820T065400
DESCRIPTION:Daniel Sheppard\nhttp://miff.com.au/program/film/black-ox
LOCATION:ACMI 1
SUMMARY:* `A1 - Black Ox
END:VEVENT
BEGIN:VEVENT
DTSTAMP:20260422T141311Z
UID:9e946e47-a3e5-4c8f-8e08-63d72941b517
DTSTART:20250820T003000
DTEND:20250820T020400
DESCRIPTION:Daniel Sheppard\nhttp://miff.com.au/program/film/cutting-throug
 h-rocks
LOCATION:Forum
SUMMARY:* `FM - Cutting Through Rocks
END:VEVENT
BEGIN:VEVENT
DTSTAMP:20260422T141311Z
UID:f291c2bb-8ceb-4604-927f-efeb4fff2f71
DTSTART:20250822T080000
DTEND:20250822T094700
DESCRIPTION:Daniel Sheppard\nhttp://miff.com.au/program/film/redux-redux
LOCATION:Hoyts 3
SUMMARY:* `H3 - Redux Redux
END:VEVENT
BEGIN:VEVENT
DTSTAMP:20260422T141311Z
UID:236b2802-5810-4b01-ba9d-d038e16ff25f
DTSTART:20250822T103000
DTEND:20250822T115200
DESCRIPTION:Daniel Sheppard\nhttp://miff.com.au/program/film/dead-lover
LOCATION:ACMI 1
SUMMARY:* `A1 - Dead Lover
END:VEVENT
END:VCALENDAR
